BEGIN:VCALENDAR
VERSION:2.0
PRODID:-//CHOLET GRANFONDO - ECPv6.15.15//NONSGML v1.0//EN
CALSCALE:GREGORIAN
METHOD:PUBLISH
X-WR-CALNAME:CHOLET GRANFONDO
X-ORIGINAL-URL:https://choletgranfondo.fr
X-WR-CALDESC:Évènements pour CHOLET GRANFONDO
REFRESH-INTERVAL;VALUE=DURATION:PT1H
X-Robots-Tag:noindex
X-PUBLISHED-TTL:PT1H
BEGIN:VTIMEZONE
TZID:Europe/Paris
BEGIN:DAYLIGHT
TZOFFSETFROM:+0100
TZOFFSETTO:+0200
TZNAME:CEST
DTSTART:20230326T010000
END:DAYLIGHT
BEGIN:STANDARD
TZOFFSETFROM:+0200
TZOFFSETTO:+0100
TZNAME:CET
DTSTART:20231029T010000
END:STANDARD
BEGIN:DAYLIGHT
TZOFFSETFROM:+0100
TZOFFSETTO:+0200
TZNAME:CEST
DTSTART:20240331T010000
END:DAYLIGHT
BEGIN:STANDARD
TZOFFSETFROM:+0200
TZOFFSETTO:+0100
TZNAME:CET
DTSTART:20241027T010000
END:STANDARD
BEGIN:DAYLIGHT
TZOFFSETFROM:+0100
TZOFFSETTO:+0200
TZNAME:CEST
DTSTART:20250330T010000
END:DAYLIGHT
BEGIN:STANDARD
TZOFFSETFROM:+0200
TZOFFSETTO:+0100
TZNAME:CET
DTSTART:20251026T010000
END:STANDARD
END:VTIMEZONE
BEGIN:VEVENT
DTSTART;TZID=Europe/Paris:20240703T083000
DTEND;TZID=Europe/Paris:20240703T130000
DTSTAMP:20260426T010211
CREATED:20240701T135331Z
LAST-MODIFIED:20240701T141836Z
UID:4679-1719995400-1720011600@choletgranfondo.fr
SUMMARY:PARCOURS  MERCREDI 03 JUILLET
DESCRIPTION:﻿ \nEntrainement-du-03-07 \nDépart Mercredi 03 Juillet à 8h30′ Police face au cimetière .
URL:https://choletgranfondo.fr/evenement/parcours-mercredi-03-juillet/
LOCATION:Parking Police face cimetière\, 4 Rie du Bordage Fontaine\, Cholet\, 49300\, France
CATEGORIES:Entrainement
END:VEVENT
END:VCALENDAR