BEGIN:VCALENDAR
VERSION:2.0
PRODID:-//CHOLET GRANFONDO - ECPv6.15.15//NONSGML v1.0//EN
CALSCALE:GREGORIAN
METHOD:PUBLISH
X-ORIGINAL-URL:https://choletgranfondo.fr
X-WR-CALDESC:Évènements pour CHOLET GRANFONDO
REFRESH-INTERVAL;VALUE=DURATION:PT1H
X-Robots-Tag:noindex
X-PUBLISHED-TTL:PT1H
BEGIN:VTIMEZONE
TZID:Europe/Paris
BEGIN:DAYLIGHT
TZOFFSETFROM:+0100
TZOFFSETTO:+0200
TZNAME:CEST
DTSTART:20240331T010000
END:DAYLIGHT
BEGIN:STANDARD
TZOFFSETFROM:+0200
TZOFFSETTO:+0100
TZNAME:CET
DTSTART:20241027T010000
END:STANDARD
BEGIN:DAYLIGHT
TZOFFSETFROM:+0100
TZOFFSETTO:+0200
TZNAME:CEST
DTSTART:20250330T010000
END:DAYLIGHT
BEGIN:STANDARD
TZOFFSETFROM:+0200
TZOFFSETTO:+0100
TZNAME:CET
DTSTART:20251026T010000
END:STANDARD
BEGIN:DAYLIGHT
TZOFFSETFROM:+0100
TZOFFSETTO:+0200
TZNAME:CEST
DTSTART:20260329T010000
END:DAYLIGHT
BEGIN:STANDARD
TZOFFSETFROM:+0200
TZOFFSETTO:+0100
TZNAME:CET
DTSTART:20261025T010000
END:STANDARD
END:VTIMEZONE
BEGIN:VEVENT
DTSTART;TZID=Europe/Paris:20250501T090000
DTEND;TZID=Europe/Paris:20250501T130000
DTSTAMP:20260423T111046
CREATED:20250428T162547Z
LAST-MODIFIED:20250428T163950Z
UID:5840-1746090000-1746104400@choletgranfondo.fr
SUMMARY:PARCOURS LONG JEUDI 1ier MAI
DESCRIPTION:Départ Dimanche 27 Avril à 9H00′ rue Beauregard.
URL:https://choletgranfondo.fr/evenement/parcours-long-jeudi-01-mai/
LOCATION:ALICANTE\, 8 rue beauregard\, Cholet\, 49300\, France
CATEGORIES:Entrainement
END:VEVENT
BEGIN:VEVENT
DTSTART;TZID=Europe/Paris:20250501T090000
DTEND;TZID=Europe/Paris:20250501T130000
DTSTAMP:20260423T111046
CREATED:20250428T164312Z
LAST-MODIFIED:20250428T164312Z
UID:5845-1746090000-1746104400@choletgranfondo.fr
SUMMARY:PARCOURS COURT JEUDI 1ier MAI
DESCRIPTION:﻿ \nDépart Dimanche 27 Avril à 9H00′ rue Beauregard.
URL:https://choletgranfondo.fr/evenement/parcours-court-jeudi-1ier-mai/
LOCATION:ALICANTE\, 8 rue beauregard\, Cholet\, 49300\, France
CATEGORIES:Entrainement
END:VEVENT
BEGIN:VEVENT
DTSTART;TZID=Europe/Paris:20250504T083000
DTEND;TZID=Europe/Paris:20250504T130000
DTSTAMP:20260423T111046
CREATED:20250501T091106Z
LAST-MODIFIED:20250501T092835Z
UID:5848-1746347400-1746363600@choletgranfondo.fr
SUMMARY:PARCOURS LONG DIMANCHE 04 MAI
DESCRIPTION:Départ Dimanche 04 mai à 8H30′ rue Beauregard.
URL:https://choletgranfondo.fr/evenement/parcours-long-dimanche-04-mai/
LOCATION:ALICANTE\, 8 rue beauregard\, Cholet\, 49300\, France
CATEGORIES:Entrainement
END:VEVENT
BEGIN:VEVENT
DTSTART;TZID=Europe/Paris:20250504T083000
DTEND;TZID=Europe/Paris:20250504T130000
DTSTAMP:20260423T111046
CREATED:20250501T092647Z
LAST-MODIFIED:20250501T092647Z
UID:5851-1746347400-1746363600@choletgranfondo.fr
SUMMARY:PARCOURS COURT DIMANCHE 04 MAI
DESCRIPTION:Départ Dimanche 04 mai à 8H30′ rue Beauregard.
URL:https://choletgranfondo.fr/evenement/parcours-court-dimanche-04-mai-2/
LOCATION:ALICANTE\, 8 rue beauregard\, Cholet\, 49300\, France
CATEGORIES:Entrainement
END:VEVENT
BEGIN:VEVENT
DTSTART;TZID=Europe/Paris:20250507T090000
DTEND;TZID=Europe/Paris:20250507T130000
DTSTAMP:20260423T111046
CREATED:20250502T151854Z
LAST-MODIFIED:20250505T152759Z
UID:5855-1746608400-1746622800@choletgranfondo.fr
SUMMARY:PARCOURS  MERCREDI 07 MAI
DESCRIPTION:Travail à effectuer : \n Force vélocité: alterner 6 X {5′ (50/60rpm) + 5′ (> 80rpm)} Vélocité dans toutes les côtes CAD : >90rpm – Z4 \nDépart Mercredi 07/05\, 9h00′ Rue beauregard\, garages du club.
URL:https://choletgranfondo.fr/evenement/parcours-mercredi-07-mai-2025/
LOCATION:Rue Beauregard – Garages du club\, Rue beauregard\, 49300\, France
CATEGORIES:Entrainement
END:VEVENT
BEGIN:VEVENT
DTSTART;TZID=Europe/Paris:20250508T090000
DTEND;TZID=Europe/Paris:20250508T130000
DTSTAMP:20260423T111046
CREATED:20250502T154454Z
LAST-MODIFIED:20250502T154454Z
UID:5858-1746694800-1746709200@choletgranfondo.fr
SUMMARY:PARCOURS LONG JEUDI 08 MAI
DESCRIPTION:Départ Jeudi 08 Mai à 9H00′ rue Beauregard.
URL:https://choletgranfondo.fr/evenement/parcours-long-jeudi-08-mai/
LOCATION:ALICANTE\, 8 rue beauregard\, Cholet\, 49300\, France
CATEGORIES:Entrainement
END:VEVENT
BEGIN:VEVENT
DTSTART;TZID=Europe/Paris:20250508T090000
DTEND;TZID=Europe/Paris:20250508T130000
DTSTAMP:20260423T111046
CREATED:20250502T155226Z
LAST-MODIFIED:20250502T155226Z
UID:5861-1746694800-1746709200@choletgranfondo.fr
SUMMARY:PARCOURS COURT JEUDI 08 MAI
DESCRIPTION:Départ Jeudi 08 Mai à 9H00′ rue Beauregard.
URL:https://choletgranfondo.fr/evenement/parcours-court-jeudi-08-mai-2/
LOCATION:ALICANTE\, 8 rue beauregard\, Cholet\, 49300\, France
CATEGORIES:Entrainement
END:VEVENT
BEGIN:VEVENT
DTSTART;TZID=Europe/Paris:20250511T083000
DTEND;TZID=Europe/Paris:20250511T130000
DTSTAMP:20260423T111046
CREATED:20250503T072516Z
LAST-MODIFIED:20250503T072516Z
UID:5864-1746952200-1746968400@choletgranfondo.fr
SUMMARY:PARCOURS LONG DIMANCHE 11 MAI
DESCRIPTION:Départ Dimanche 11 mai à 8H30′ rue Beauregard.
URL:https://choletgranfondo.fr/evenement/parcours-long-dimanche-11-mai-2/
LOCATION:ALICANTE\, 8 rue beauregard\, Cholet\, 49300\, France
CATEGORIES:Entrainement
END:VEVENT
BEGIN:VEVENT
DTSTART;TZID=Europe/Paris:20250511T083000
DTEND;TZID=Europe/Paris:20250511T130000
DTSTAMP:20260423T111046
CREATED:20250503T073002Z
LAST-MODIFIED:20250503T073002Z
UID:5867-1746952200-1746968400@choletgranfondo.fr
SUMMARY:PARCOURS COURT DIMANCHE 11 MAI
DESCRIPTION:Départ Dimanche 11 mai à 8H30′ rue Beauregard.
URL:https://choletgranfondo.fr/evenement/parcours-court-dimanche-11-mai/
LOCATION:ALICANTE\, 8 rue beauregard\, Cholet\, 49300\, France
CATEGORIES:Entrainement
END:VEVENT
BEGIN:VEVENT
DTSTART;TZID=Europe/Paris:20250514T090000
DTEND;TZID=Europe/Paris:20250514T130000
DTSTAMP:20260423T111046
CREATED:20250510T070046Z
LAST-MODIFIED:20250510T070046Z
UID:5873-1747213200-1747227600@choletgranfondo.fr
SUMMARY:PARCOURS  MERCREDI 14 MAI
DESCRIPTION:Travail à effectuer : \n 3 X la côte des Gardes : 1 fois en force 50-55rpm Z3 – 1 fois en vélocité >85rpm Z4 – 1 Fois en accélération fin après dernier virage au sprint  \nDépart Mercredi 14/05\, 9h00′ Parking de la gare.
URL:https://choletgranfondo.fr/evenement/parcours-mercredi-14-mai/
LOCATION:Parking de la Gare\, Place du 77ième Régiment d'Infanterie\, Cholet\, 49300\, France
CATEGORIES:Entrainement
END:VEVENT
BEGIN:VEVENT
DTSTART;TZID=Europe/Paris:20250518T083000
DTEND;TZID=Europe/Paris:20250518T130000
DTSTAMP:20260423T111046
CREATED:20250514T125738Z
LAST-MODIFIED:20250514T125738Z
UID:5917-1747557000-1747573200@choletgranfondo.fr
SUMMARY:PARCOURS LONG DIMANCHE 18 MAI
DESCRIPTION:Départ Dimanche 18 mai à 8H30′ rue Beauregard.
URL:https://choletgranfondo.fr/evenement/parcours-long-dimanche-18-mai/
LOCATION:ALICANTE\, 8 rue beauregard\, Cholet\, 49300\, France
CATEGORIES:Entrainement
END:VEVENT
BEGIN:VEVENT
DTSTART;TZID=Europe/Paris:20250518T083000
DTEND;TZID=Europe/Paris:20250518T130000
DTSTAMP:20260423T111046
CREATED:20250514T131031Z
LAST-MODIFIED:20250514T131031Z
UID:5921-1747557000-1747573200@choletgranfondo.fr
SUMMARY:PARCOURS COURT DIMANCHE 18 MAI
DESCRIPTION:Départ Dimanche 18 mai à 8H30′ rue Beauregard.
URL:https://choletgranfondo.fr/evenement/parcours-court-dimanche-18-mai-2/
LOCATION:ALICANTE\, 8 rue beauregard\, Cholet\, 49300\, France
CATEGORIES:Entrainement
END:VEVENT
BEGIN:VEVENT
DTSTART;TZID=Europe/Paris:20250521T090000
DTEND;TZID=Europe/Paris:20250521T130000
DTSTAMP:20260423T111046
CREATED:20250519T065757Z
LAST-MODIFIED:20250519T065757Z
UID:5930-1747818000-1747832400@choletgranfondo.fr
SUMMARY:PARCOURS  MERCREDI 21 MAI
DESCRIPTION:Travail à effectuer : \n 15′ de force par heure. Monter les côtes en vélocité (>90rpm). Faire 3 sprints de 40″ en Z6\, 7′ entre les sprints en Z1  \nDépart Mercredi 21/05\, 9h00′ Parking de la gare.
URL:https://choletgranfondo.fr/evenement/parcours-mercredi-21-mai-2/
LOCATION:Parking de la Gare\, Place du 77ième Régiment d'Infanterie\, Cholet\, 49300\, France
CATEGORIES:Entrainement
END:VEVENT
BEGIN:VEVENT
DTSTART;TZID=Europe/Paris:20250525T083000
DTEND;TZID=Europe/Paris:20250525T130000
DTSTAMP:20260423T111046
CREATED:20250522T065650Z
LAST-MODIFIED:20250522T065650Z
UID:5933-1748161800-1748178000@choletgranfondo.fr
SUMMARY:PARCOURS LONG DIMANCHE 25 MAI
DESCRIPTION:Départ Dimanche 25 mai à 8H30′ rue Beauregard.
URL:https://choletgranfondo.fr/evenement/parcours-long-dimanche-25-mai-2/
LOCATION:ALICANTE\, 8 rue beauregard\, Cholet\, 49300\, France
CATEGORIES:Entrainement
END:VEVENT
BEGIN:VEVENT
DTSTART;TZID=Europe/Paris:20250525T083000
DTEND;TZID=Europe/Paris:20250525T130000
DTSTAMP:20260423T111046
CREATED:20250522T070212Z
LAST-MODIFIED:20250522T070212Z
UID:5936-1748161800-1748178000@choletgranfondo.fr
SUMMARY:PARCOURS COURT DIMANCHE 25 MAI
DESCRIPTION:Départ Dimanche 25 mai à 8H30′ rue Beauregard.
URL:https://choletgranfondo.fr/evenement/parcours-court-dimanche-25-mai/
LOCATION:ALICANTE\, 8 rue beauregard\, Cholet\, 49300\, France
CATEGORIES:Entrainement
END:VEVENT
BEGIN:VEVENT
DTSTART;TZID=Europe/Paris:20250528T090000
DTEND;TZID=Europe/Paris:20250528T130000
DTSTAMP:20260423T111046
CREATED:20250524T101121Z
LAST-MODIFIED:20250524T101121Z
UID:5939-1748422800-1748437200@choletgranfondo.fr
SUMMARY:PARCOURS  MERCREDI 28 MAI
DESCRIPTION:Travail à effectuer : \n Rouler en permanence sur le plus grand développement possible\, monter les côtes en vélocité >85rpm en Z4  \nDépart Mercredi 28/05\, 9h00′ Parking de la gare.
URL:https://choletgranfondo.fr/evenement/parcours-mercredi-28-mai/
LOCATION:Parking de la Gare\, Place du 77ième Régiment d'Infanterie\, Cholet\, 49300\, France
CATEGORIES:Entrainement
END:VEVENT
END:VCALENDAR