BEGIN:VCALENDAR
VERSION:2.0
PRODID:-//CHOLET GRANFONDO - ECPv6.15.15//NONSGML v1.0//EN
CALSCALE:GREGORIAN
METHOD:PUBLISH
X-WR-CALNAME:CHOLET GRANFONDO
X-ORIGINAL-URL:https://choletgranfondo.fr
X-WR-CALDESC:Évènements pour CHOLET GRANFONDO
REFRESH-INTERVAL;VALUE=DURATION:PT1H
X-Robots-Tag:noindex
X-PUBLISHED-TTL:PT1H
BEGIN:VTIMEZONE
TZID:Europe/Paris
BEGIN:DAYLIGHT
TZOFFSETFROM:+0100
TZOFFSETTO:+0200
TZNAME:CEST
DTSTART:20240331T010000
END:DAYLIGHT
BEGIN:STANDARD
TZOFFSETFROM:+0200
TZOFFSETTO:+0100
TZNAME:CET
DTSTART:20241027T010000
END:STANDARD
BEGIN:DAYLIGHT
TZOFFSETFROM:+0100
TZOFFSETTO:+0200
TZNAME:CEST
DTSTART:20250330T010000
END:DAYLIGHT
BEGIN:STANDARD
TZOFFSETFROM:+0200
TZOFFSETTO:+0100
TZNAME:CET
DTSTART:20251026T010000
END:STANDARD
BEGIN:DAYLIGHT
TZOFFSETFROM:+0100
TZOFFSETTO:+0200
TZNAME:CEST
DTSTART:20260329T010000
END:DAYLIGHT
BEGIN:STANDARD
TZOFFSETFROM:+0200
TZOFFSETTO:+0100
TZNAME:CET
DTSTART:20261025T010000
END:STANDARD
END:VTIMEZONE
BEGIN:VEVENT
DTSTART;VALUE=DATE:20250528
DTEND;VALUE=DATE:20250602
DTSTAMP:20260423T141359
CREATED:20241208T150914Z
LAST-MODIFIED:20241212T154327Z
UID:5142-1748390400-1748822399@choletgranfondo.fr
SUMMARY:MINI STAGE PYRÉNÉES
DESCRIPTION:Date limite d’inscription le 31 Décembre 2024 \nDÉPART CHOLET LE MERCREDI 28 MAI – APRÈS MIDI – Le matin \nREOUR SUR CHOLET LE DIMANCHE 01 JUIN – APRÈS MIDI
URL:https://choletgranfondo.fr/evenement/mini-stga-pyrenees/
LOCATION:ARGELES GAZOST\, 65400\, France
CATEGORIES:Epreuve
ORGANIZER;CN="CGF":MAILTO:contact@choletgranfondo.fr
END:VEVENT
BEGIN:VEVENT
DTSTART;VALUE=DATE:20250606
DTEND;VALUE=DATE:20250608
DTSTAMP:20260423T141359
CREATED:20241208T160632Z
LAST-MODIFIED:20241212T154526Z
UID:5167-1749168000-1749340799@choletgranfondo.fr
SUMMARY:LA LIMOUSINE
DESCRIPTION:07 Juin à Panazol\nDate limite d’inscription le 15 Janvier 2025 \nDÉPART CHOLET LE VENDREDI 6 JUIN – Le matin \nREOUR CHOLET LE SAMEDI 7 JUIN – Soir
URL:https://choletgranfondo.fr/evenement/la-limousine-2025/
LOCATION:PANAZOL\, PANAZOL\, France
CATEGORIES:Epreuve
END:VEVENT
BEGIN:VEVENT
DTSTART;VALUE=DATE:20250613
DTEND;VALUE=DATE:20250617
DTSTAMP:20260423T141359
CREATED:20241217T075705Z
LAST-MODIFIED:20250101T150329Z
UID:5272-1749772800-1750118399@choletgranfondo.fr
SUMMARY:L'ARDÉCHOISE
DESCRIPTION:14 Juin à St Félicien\nDate limite d’inscription : 15 Janvier 2025 \nDÉPART CHOLET LE VENDREDI 13 JUIN – Le matin tôt \nREOUR CHOLET LE LUNDI 16 JUIN – dans la soirée
URL:https://choletgranfondo.fr/evenement/lardechoise-2025-2/
LOCATION:Saint Félicien\, Saint Félicien\, France
CATEGORIES:Epreuve
END:VEVENT
BEGIN:VEVENT
DTSTART;VALUE=DATE:20250621
DTEND;VALUE=DATE:20250623
DTSTAMP:20260423T141359
CREATED:20241208T155704Z
LAST-MODIFIED:20241212T154729Z
UID:5162-1750464000-1750636799@choletgranfondo.fr
SUMMARY:LA PÉRIGORDINE
DESCRIPTION:22 Juin à St Lazare\nDate limite d’enregistrement le 15 Février 2025 \nDÉPART CHOLET LE SAMEDI 21 JUIN – Le matin \nREOUR CHOLET LE DIMANCHE 22 JUIN – Soir
URL:https://choletgranfondo.fr/evenement/la-perigordine/
LOCATION:L’ARDIN SAINT LAZARE\, 24570\, France
CATEGORIES:Epreuve
END:VEVENT
END:VCALENDAR