BEGIN:VCALENDAR
VERSION:2.0
PRODID:-//CHOLET GRANFONDO - ECPv6.15.15//NONSGML v1.0//EN
CALSCALE:GREGORIAN
METHOD:PUBLISH
X-WR-CALNAME:CHOLET GRANFONDO
X-ORIGINAL-URL:https://choletgranfondo.fr
X-WR-CALDESC:Évènements pour CHOLET GRANFONDO
REFRESH-INTERVAL;VALUE=DURATION:PT1H
X-Robots-Tag:noindex
X-PUBLISHED-TTL:PT1H
BEGIN:VTIMEZONE
TZID:Europe/Paris
BEGIN:DAYLIGHT
TZOFFSETFROM:+0100
TZOFFSETTO:+0200
TZNAME:CEST
DTSTART:20240331T010000
END:DAYLIGHT
BEGIN:STANDARD
TZOFFSETFROM:+0200
TZOFFSETTO:+0100
TZNAME:CET
DTSTART:20241027T010000
END:STANDARD
BEGIN:DAYLIGHT
TZOFFSETFROM:+0100
TZOFFSETTO:+0200
TZNAME:CEST
DTSTART:20250330T010000
END:DAYLIGHT
BEGIN:STANDARD
TZOFFSETFROM:+0200
TZOFFSETTO:+0100
TZNAME:CET
DTSTART:20251026T010000
END:STANDARD
BEGIN:DAYLIGHT
TZOFFSETFROM:+0100
TZOFFSETTO:+0200
TZNAME:CEST
DTSTART:20260329T010000
END:DAYLIGHT
BEGIN:STANDARD
TZOFFSETFROM:+0200
TZOFFSETTO:+0100
TZNAME:CET
DTSTART:20261025T010000
END:STANDARD
END:VTIMEZONE
BEGIN:VEVENT
DTSTART;TZID=Europe/Paris:20250507T090000
DTEND;TZID=Europe/Paris:20250507T130000
DTSTAMP:20260423T141437
CREATED:20250502T151854Z
LAST-MODIFIED:20250505T152759Z
UID:5855-1746608400-1746622800@choletgranfondo.fr
SUMMARY:PARCOURS  MERCREDI 07 MAI
DESCRIPTION:Travail à effectuer : \n Force vélocité: alterner 6 X {5′ (50/60rpm) + 5′ (> 80rpm)} Vélocité dans toutes les côtes CAD : >90rpm – Z4 \nDépart Mercredi 07/05\, 9h00′ Rue beauregard\, garages du club.
URL:https://choletgranfondo.fr/evenement/parcours-mercredi-07-mai-2025/
LOCATION:Rue Beauregard – Garages du club\, Rue beauregard\, 49300\, France
CATEGORIES:Entrainement
END:VEVENT
BEGIN:VEVENT
DTSTART;TZID=Europe/Paris:20250514T090000
DTEND;TZID=Europe/Paris:20250514T130000
DTSTAMP:20260423T141437
CREATED:20250510T070046Z
LAST-MODIFIED:20250510T070046Z
UID:5873-1747213200-1747227600@choletgranfondo.fr
SUMMARY:PARCOURS  MERCREDI 14 MAI
DESCRIPTION:Travail à effectuer : \n 3 X la côte des Gardes : 1 fois en force 50-55rpm Z3 – 1 fois en vélocité >85rpm Z4 – 1 Fois en accélération fin après dernier virage au sprint  \nDépart Mercredi 14/05\, 9h00′ Parking de la gare.
URL:https://choletgranfondo.fr/evenement/parcours-mercredi-14-mai/
LOCATION:Parking de la Gare\, Place du 77ième Régiment d'Infanterie\, Cholet\, 49300\, France
CATEGORIES:Entrainement
END:VEVENT
BEGIN:VEVENT
DTSTART;TZID=Europe/Paris:20250521T090000
DTEND;TZID=Europe/Paris:20250521T130000
DTSTAMP:20260423T141437
CREATED:20250519T065757Z
LAST-MODIFIED:20250519T065757Z
UID:5930-1747818000-1747832400@choletgranfondo.fr
SUMMARY:PARCOURS  MERCREDI 21 MAI
DESCRIPTION:Travail à effectuer : \n 15′ de force par heure. Monter les côtes en vélocité (>90rpm). Faire 3 sprints de 40″ en Z6\, 7′ entre les sprints en Z1  \nDépart Mercredi 21/05\, 9h00′ Parking de la gare.
URL:https://choletgranfondo.fr/evenement/parcours-mercredi-21-mai-2/
LOCATION:Parking de la Gare\, Place du 77ième Régiment d'Infanterie\, Cholet\, 49300\, France
CATEGORIES:Entrainement
END:VEVENT
BEGIN:VEVENT
DTSTART;TZID=Europe/Paris:20250528T090000
DTEND;TZID=Europe/Paris:20250528T130000
DTSTAMP:20260423T141437
CREATED:20250524T101121Z
LAST-MODIFIED:20250524T101121Z
UID:5939-1748422800-1748437200@choletgranfondo.fr
SUMMARY:PARCOURS  MERCREDI 28 MAI
DESCRIPTION:Travail à effectuer : \n Rouler en permanence sur le plus grand développement possible\, monter les côtes en vélocité >85rpm en Z4  \nDépart Mercredi 28/05\, 9h00′ Parking de la gare.
URL:https://choletgranfondo.fr/evenement/parcours-mercredi-28-mai/
LOCATION:Parking de la Gare\, Place du 77ième Régiment d'Infanterie\, Cholet\, 49300\, France
CATEGORIES:Entrainement
END:VEVENT
END:VCALENDAR