BEGIN:VCALENDAR
VERSION:2.0
PRODID:-//CHOLET GRANFONDO - ECPv6.15.15//NONSGML v1.0//EN
CALSCALE:GREGORIAN
METHOD:PUBLISH
X-ORIGINAL-URL:https://choletgranfondo.fr
X-WR-CALDESC:Évènements pour CHOLET GRANFONDO
REFRESH-INTERVAL;VALUE=DURATION:PT1H
X-Robots-Tag:noindex
X-PUBLISHED-TTL:PT1H
BEGIN:VTIMEZONE
TZID:Europe/Paris
BEGIN:DAYLIGHT
TZOFFSETFROM:+0100
TZOFFSETTO:+0200
TZNAME:CEST
DTSTART:20240331T010000
END:DAYLIGHT
BEGIN:STANDARD
TZOFFSETFROM:+0200
TZOFFSETTO:+0100
TZNAME:CET
DTSTART:20241027T010000
END:STANDARD
BEGIN:DAYLIGHT
TZOFFSETFROM:+0100
TZOFFSETTO:+0200
TZNAME:CEST
DTSTART:20250330T010000
END:DAYLIGHT
BEGIN:STANDARD
TZOFFSETFROM:+0200
TZOFFSETTO:+0100
TZNAME:CET
DTSTART:20251026T010000
END:STANDARD
BEGIN:DAYLIGHT
TZOFFSETFROM:+0100
TZOFFSETTO:+0200
TZNAME:CEST
DTSTART:20260329T010000
END:DAYLIGHT
BEGIN:STANDARD
TZOFFSETFROM:+0200
TZOFFSETTO:+0100
TZNAME:CET
DTSTART:20261025T010000
END:STANDARD
END:VTIMEZONE
BEGIN:VEVENT
DTSTART;TZID=Europe/Paris:20250604T090000
DTEND;TZID=Europe/Paris:20250604T130000
DTSTAMP:20260423T122706
CREATED:20250602T103728Z
LAST-MODIFIED:20250602T104115Z
UID:5966-1749027600-1749042000@choletgranfondo.fr
SUMMARY:PARCOURS  MERCREDI 04 JUIN
DESCRIPTION:Travail à effectuer : \n 4 FOIS {2′(105rpm) + 2′(90rpm)} enchainer les 4 répétitions Z3. Monter les côtes en force 45-55rpm \nDépart Mercredi 04/06\, 9h00′ Parking de la gare.
URL:https://choletgranfondo.fr/evenement/parcours-mercredi-04-juin-2/
LOCATION:Parking de la Gare\, Place du 77ième Régiment d'Infanterie\, Cholet\, 49300\, France
CATEGORIES:Entrainement
END:VEVENT
BEGIN:VEVENT
DTSTART;TZID=Europe/Paris:20250609T090000
DTEND;TZID=Europe/Paris:20250609T130000
DTSTAMP:20260423T122706
CREATED:20250606T090031Z
LAST-MODIFIED:20250606T090031Z
UID:6026-1749459600-1749474000@choletgranfondo.fr
SUMMARY:PARCOURS  LUNDI 09 JUIN
DESCRIPTION:Départ Lundi 09 Juin\, 9h00′ Parking police face au cimetière.
URL:https://choletgranfondo.fr/evenement/parcours-lundi-09-juin/
LOCATION:Parking Police face cimetière\, 4 Rie du Bordage Fontaine\, Cholet\, 49300\, France
CATEGORIES:Entrainement
END:VEVENT
BEGIN:VEVENT
DTSTART;TZID=Europe/Paris:20250609T090000
DTEND;TZID=Europe/Paris:20250609T130000
DTSTAMP:20260423T122706
CREATED:20250607T144942Z
LAST-MODIFIED:20250607T144942Z
UID:6031-1749459600-1749474000@choletgranfondo.fr
SUMMARY:PARCOURS  LUNDI 09 JUIN LONG
DESCRIPTION:Départ Lundi 09 Juin\, 9h00′ Parking police face au cimetière.
URL:https://choletgranfondo.fr/evenement/parcours-lundi-09-juin-long/
LOCATION:Parking Police face cimetière\, 4 Rie du Bordage Fontaine\, Cholet\, 49300\, France
CATEGORIES:Entrainement
END:VEVENT
BEGIN:VEVENT
DTSTART;TZID=Europe/Paris:20250611T090000
DTEND;TZID=Europe/Paris:20250611T130000
DTSTAMP:20260423T122706
CREATED:20250609T140904Z
LAST-MODIFIED:20250609T141304Z
UID:6046-1749632400-1749646800@choletgranfondo.fr
SUMMARY:PARCOURS  MERCREDI 11 JUIN
DESCRIPTION:Travail à effectuer : \n 5 FOIS {2′(105rpm) + 2′(90rpm)} enchainer les 5 répétitions Z3.  \nDépart Mercredi 11/06\, 9h00′ Parking de la police face au cimetière.
URL:https://choletgranfondo.fr/evenement/parcours-mercredi-11-juin/
LOCATION:Parking Police face cimetière\, 4 Rie du Bordage Fontaine\, Cholet\, 49300\, France
CATEGORIES:Entrainement
END:VEVENT
BEGIN:VEVENT
DTSTART;TZID=Europe/Paris:20250618T090000
DTEND;TZID=Europe/Paris:20250618T130000
DTSTAMP:20260423T122706
CREATED:20250616T183418Z
LAST-MODIFIED:20250616T183418Z
UID:6057-1750237200-1750251600@choletgranfondo.fr
SUMMARY:PARCOURS  MERCREDI 18 JUIN
DESCRIPTION:Travail à effectuer : \n Sortie de récupération active 4 X (1′ à 105rpm) + 2′ (90rpm).  \nDépart Mercredi 18/06\, 9h00′ aux garages rue Beauregard.
URL:https://choletgranfondo.fr/evenement/parcours-mercredi-18-juin/
LOCATION:Rue Beauregard – Garages du club\, Rue beauregard\, 49300\, France
CATEGORIES:Entrainement
END:VEVENT
BEGIN:VEVENT
DTSTART;TZID=Europe/Paris:20250625T083000
DTEND;TZID=Europe/Paris:20250625T130000
DTSTAMP:20260423T122706
CREATED:20250623T124310Z
LAST-MODIFIED:20250623T124637Z
UID:6113-1750840200-1750856400@choletgranfondo.fr
SUMMARY:PARCOURS  MERCREDI 25 JUIN
DESCRIPTION:Travail à effectuer : \n Alterner un côte en force (50-55rpm en Z3) une côte en vélocité (80-90rpm en Z4)  \nDépart Mercredi 25/06\, 8h30′ Parking de la grange.
URL:https://choletgranfondo.fr/evenement/parcours-mercredi-25-juin-2/
LOCATION:Parking restaurant La Grange\, rue Saint Antoine\, 64 Rue saint antoine\, Cholet\, 49300\, France
CATEGORIES:Entrainement
END:VEVENT
END:VCALENDAR