BEGIN:VCALENDAR
VERSION:2.0
PRODID:-//CHOLET GRANFONDO - ECPv6.15.15//NONSGML v1.0//EN
CALSCALE:GREGORIAN
METHOD:PUBLISH
X-ORIGINAL-URL:https://choletgranfondo.fr
X-WR-CALDESC:Évènements pour CHOLET GRANFONDO
REFRESH-INTERVAL;VALUE=DURATION:PT1H
X-Robots-Tag:noindex
X-PUBLISHED-TTL:PT1H
BEGIN:VTIMEZONE
TZID:Europe/Paris
BEGIN:DAYLIGHT
TZOFFSETFROM:+0100
TZOFFSETTO:+0200
TZNAME:CEST
DTSTART:20230326T010000
END:DAYLIGHT
BEGIN:STANDARD
TZOFFSETFROM:+0200
TZOFFSETTO:+0100
TZNAME:CET
DTSTART:20231029T010000
END:STANDARD
BEGIN:DAYLIGHT
TZOFFSETFROM:+0100
TZOFFSETTO:+0200
TZNAME:CEST
DTSTART:20240331T010000
END:DAYLIGHT
BEGIN:STANDARD
TZOFFSETFROM:+0200
TZOFFSETTO:+0100
TZNAME:CET
DTSTART:20241027T010000
END:STANDARD
BEGIN:DAYLIGHT
TZOFFSETFROM:+0100
TZOFFSETTO:+0200
TZNAME:CEST
DTSTART:20250330T010000
END:DAYLIGHT
BEGIN:STANDARD
TZOFFSETFROM:+0200
TZOFFSETTO:+0100
TZNAME:CET
DTSTART:20251026T010000
END:STANDARD
END:VTIMEZONE
BEGIN:VEVENT
DTSTART;VALUE=DATE:20240505
DTEND;VALUE=DATE:20240506
DTSTAMP:20260425T184951
CREATED:20231210T090030Z
LAST-MODIFIED:20231210T135123Z
UID:3628-1714867200-1714953599@choletgranfondo.fr
SUMMARY:L'ORNAISE
DESCRIPTION:DÉPART CHOLET LE SAMEDI 04 MAI – Le matin \nREOUR CHOLET LE DIMANCHE 05 MAI – Soir
URL:https://choletgranfondo.fr/evenement/lornaise/
LOCATION:ARGENTAN\, ARGENTAN\, France
CATEGORIES:Epreuve
END:VEVENT
BEGIN:VEVENT
DTSTART;VALUE=DATE:20240519
DTEND;VALUE=DATE:20240520
DTSTAMP:20260425T184951
CREATED:20231210T095644Z
LAST-MODIFIED:20240116T101238Z
UID:3657-1716076800-1716163199@choletgranfondo.fr
SUMMARY:GRANFONDO DES VOSGES
DESCRIPTION:DÉPART CHOLET LE VENDREDI 17 MAI – Le matin \nREOUR CHOLET LE LUNDI 20 MAI – Dans la soirée
URL:https://choletgranfondo.fr/evenement/granfondo-des-vosges/
LOCATION:LA BRESSE\, La Bresse\, France
CATEGORIES:Epreuve
END:VEVENT
END:VCALENDAR