BEGIN:VCALENDAR
VERSION:2.0
PRODID:-//CHOLET GRANFONDO - ECPv6.15.15//NONSGML v1.0//EN
CALSCALE:GREGORIAN
METHOD:PUBLISH
X-WR-CALNAME:CHOLET GRANFONDO
X-ORIGINAL-URL:https://choletgranfondo.fr
X-WR-CALDESC:Évènements pour CHOLET GRANFONDO
REFRESH-INTERVAL;VALUE=DURATION:PT1H
X-Robots-Tag:noindex
X-PUBLISHED-TTL:PT1H
BEGIN:VTIMEZONE
TZID:Europe/Paris
BEGIN:DAYLIGHT
TZOFFSETFROM:+0100
TZOFFSETTO:+0200
TZNAME:CEST
DTSTART:20230326T010000
END:DAYLIGHT
BEGIN:STANDARD
TZOFFSETFROM:+0200
TZOFFSETTO:+0100
TZNAME:CET
DTSTART:20231029T010000
END:STANDARD
BEGIN:DAYLIGHT
TZOFFSETFROM:+0100
TZOFFSETTO:+0200
TZNAME:CEST
DTSTART:20240331T010000
END:DAYLIGHT
BEGIN:STANDARD
TZOFFSETFROM:+0200
TZOFFSETTO:+0100
TZNAME:CET
DTSTART:20241027T010000
END:STANDARD
BEGIN:DAYLIGHT
TZOFFSETFROM:+0100
TZOFFSETTO:+0200
TZNAME:CEST
DTSTART:20250330T010000
END:DAYLIGHT
BEGIN:STANDARD
TZOFFSETFROM:+0200
TZOFFSETTO:+0100
TZNAME:CET
DTSTART:20251026T010000
END:STANDARD
END:VTIMEZONE
BEGIN:VEVENT
DTSTART;VALUE=DATE:20240811
DTEND;VALUE=DATE:20240812
DTSTAMP:20260425T141339
CREATED:20231210T141903Z
LAST-MODIFIED:20240105T144134Z
UID:3701-1723334400-1723420799@choletgranfondo.fr
SUMMARY:L'ÉTAPE SANFLORAINE
DESCRIPTION:DÉPART CHOLET LE VENDREDI 09 AÔUT – Le matin \nRETOUR CHOLET LE LUNDI 12 AÔUT – Dans la soirée
URL:https://choletgranfondo.fr/evenement/etpa-sanfloraine/
LOCATION:Saint Flour\, SAINT FLOUR\, France
CATEGORIES:Epreuve
END:VEVENT
BEGIN:VEVENT
DTSTART;VALUE=DATE:20240820
DTEND;VALUE=DATE:20240826
DTSTAMP:20260425T141339
CREATED:20240102T164803Z
LAST-MODIFIED:20240116T101218Z
UID:3841-1724112000-1724630399@choletgranfondo.fr
SUMMARY:CHAMPIONNATS DE FRANCE MASTER CLM
DESCRIPTION:CHAMPIONNATS DE FRANCE CONTRE LA MONTRE VENDREDI 23 AOUT À SAINT PARDOUX LE LAC  \nDÉPART CHOLET LE MARDI 20 AOUT EN MATINÉE \nRETOUR CHOLET DIMANCHE 25 AOUT DANS LA SOIRÉE
URL:https://choletgranfondo.fr/evenement/championnats-de-france-clm/
LOCATION:Saint Pardoux le Lac\, Saint Pardoux le Lac\, France
CATEGORIES:Epreuve
END:VEVENT
BEGIN:VEVENT
DTSTART;VALUE=DATE:20240822
DTEND;VALUE=DATE:20240826
DTSTAMP:20260425T141339
CREATED:20240104T133727Z
LAST-MODIFIED:20240116T101157Z
UID:3854-1724284800-1724630399@choletgranfondo.fr
SUMMARY:CHAMPIONNATS DE FRANCE MASTER COURSE EN LIGNE
DESCRIPTION:CHAMPIONNATS DE FRANCE SAMEDI ET DIMANCHE 24 ET 25 AOUT À SAINT PARDOUX LE LAC  \nDÉPART CHOLET LE JEUDI 22 AOUT EN MATINÉE \nRETOUR CHOLET DIMANCHE 25 AOUT DANS LA SOIRÉE
URL:https://choletgranfondo.fr/evenement/championnats-de-france-master/
LOCATION:Saint Pardoux le Lac\, Saint Pardoux le Lac\, France
CATEGORIES:Epreuve
END:VEVENT
END:VCALENDAR