BEGIN:VCALENDAR
VERSION:2.0
PRODID:-//CHOLET GRANFONDO - ECPv6.15.15//NONSGML v1.0//EN
CALSCALE:GREGORIAN
METHOD:PUBLISH
X-ORIGINAL-URL:https://choletgranfondo.fr
X-WR-CALDESC:Évènements pour CHOLET GRANFONDO
REFRESH-INTERVAL;VALUE=DURATION:PT1H
X-Robots-Tag:noindex
X-PUBLISHED-TTL:PT1H
BEGIN:VTIMEZONE
TZID:Europe/Paris
BEGIN:DAYLIGHT
TZOFFSETFROM:+0100
TZOFFSETTO:+0200
TZNAME:CEST
DTSTART:20230326T010000
END:DAYLIGHT
BEGIN:STANDARD
TZOFFSETFROM:+0200
TZOFFSETTO:+0100
TZNAME:CET
DTSTART:20231029T010000
END:STANDARD
BEGIN:DAYLIGHT
TZOFFSETFROM:+0100
TZOFFSETTO:+0200
TZNAME:CEST
DTSTART:20240331T010000
END:DAYLIGHT
BEGIN:STANDARD
TZOFFSETFROM:+0200
TZOFFSETTO:+0100
TZNAME:CET
DTSTART:20241027T010000
END:STANDARD
BEGIN:DAYLIGHT
TZOFFSETFROM:+0100
TZOFFSETTO:+0200
TZNAME:CEST
DTSTART:20250330T010000
END:DAYLIGHT
BEGIN:STANDARD
TZOFFSETFROM:+0200
TZOFFSETTO:+0100
TZNAME:CET
DTSTART:20251026T010000
END:STANDARD
END:VTIMEZONE
BEGIN:VEVENT
DTSTART;VALUE=DATE:20240922
DTEND;VALUE=DATE:20240923
DTSTAMP:20260425T125443
CREATED:20231210T143848Z
LAST-MODIFIED:20240314T163041Z
UID:3711-1726963200-1727049599@choletgranfondo.fr
SUMMARY:LA JALABERT
DESCRIPTION:DÉPART CHOLET LE VENDREDI 20 SEPTEMBRE – Le matin \nREOUR CHOLET LE LUNDI 23 SEPTEMBRE – Dans la soirée
URL:https://choletgranfondo.fr/evenement/jalabert/
LOCATION:Mazamet\, MAZAMET\, France
CATEGORIES:Epreuve
END:VEVENT
END:VCALENDAR